BEGIN:VCALENDAR
VERSION:2.0
PRODID:-//Purkersdorf Online//NONSGML V1.0//DE
BEGIN:VEVENT
UID:11955@puon.at
DTSTAMP:20260424T193035
DTSTART:20161206T190000
DTEND:20161206T210000
LAST-MODIFIED:20151216T095842
DESCRIPTION:Hinkommen - essen - plaudern - tauschen
 
LOCATION:re:spect KULTURHAUS 
URL:http://puon.at/tauschkreis/index.php
SUMMARY:Tauschkreis Treffen 
END:VEVENT
END:VCALENDAR
