BEGIN:VCALENDAR
VERSION:2.0
PRODID:-//Purkersdorf Online//NONSGML V1.0//DE
BEGIN:VEVENT
UID:13421@puon.at
DTSTAMP:20260422T113153
DTSTART:20190514T180000
DTEND:20190514T193000
LAST-MODIFIED:20181002T103029
DESCRIPTION:Vortrag zur UnterstÃ¼tzung in der Erziehung fÃ¼r Eltern\, Le
 hr- und Betreuungspersonen.\r\n\r\nVortragender: Mag. Robert Eder\, MBA\
 r\n\r\nDas sogenannte Ãœbergangsalter ist gekennzeichnet durch den Ãœber
 gang zur „inneren Position des Erwachsenen“. Dies bedeutet die Entwicklu
 ng eines reflexiven Ich: Die Heranwachsenden entdecken die Innenwelt ihr
 er GefÃ¼hle und Motive. Die bisherigen Systeme der Jugendlichen werden k
 omplett neu aufgebaut\, das bringt auch eine Neubewertung von Eltern\, L
 ehr- und Betreuungspersonen mit sich. \r\n\r\nVortragskosten: €10\,- bei
  Voranmeldung/ €12\,- bei Abendkassa\r\nWir bitten um Anmeldung unter ju
 gendberatung@respectgmbh.at 
 
URL:http://www.re-spect.org/de/bildungsprogramm.htm
SUMMARY:PubertÃ¤t und Adoleszenz
END:VEVENT
END:VCALENDAR
