BEGIN:VCALENDAR
VERSION:2.0
PRODID:-//Purkersdorf Online//NONSGML V1.0//DE
BEGIN:VEVENT
UID:13544@puon.at
DTSTAMP:20260422T092508
DTSTART;VALUE=DATE:20190527
DTEND;VALUE=DATE:20190528
LAST-MODIFIED:20181220T140947
SUMMARY:Altpapier
END:VEVENT
END:VCALENDAR
