BEGIN:VCALENDAR
VERSION:2.0
PRODID:-//Purkersdorf Online//NONSGML V1.0//DE
BEGIN:VEVENT
UID:13577@puon.at
DTSTAMP:20260422T013004
DTSTART;VALUE=DATE:20190603
DTEND;VALUE=DATE:20190604
LAST-MODIFIED:20181220T184612
SUMMARY:Biomüll
END:VEVENT
END:VCALENDAR
