BEGIN:VCALENDAR
VERSION:2.0
PRODID:-//Purkersdorf Online//NONSGML V1.0//DE
BEGIN:VEVENT
UID:712lob47v9d0noa7gpgat5itmn@google.com
DTSTAMP:20260422T111421
DTSTART:20190526T120000
DTEND:20190526T150000
LAST-MODIFIED:20190429T123612
DESCRIPTION:Unser Naturparkteam ist für Sie da: mit Informationen zum Na
 turpark\, Betreuung des Naturparkzentrums\, jeweils mit einem besonderen
  Thema\; Angebot für Kinder\, Literatur zum Schmökern und Reinlesen\, sa
 isonale Besonderheiten Eintritt frei\, Spende
 
LOCATION:Naturparkzentrum Purkersdorf, Zugang über R. Hanke Gasse 12, 3002 Purkersdorf
SUMMARY:OPEN HOUSE im Naturparkzentrum
END:VEVENT
END:VCALENDAR
