BEGIN:VCALENDAR
VERSION:2.0
PRODID:-//Purkersdorf Online//NONSGML V1.0//DE
BEGIN:VEVENT
UID:13818@puon.at
DTSTAMP:20260422T090353
DTSTART:20190515T090000
DTEND:20190515T143000
LAST-MODIFIED:20190509T110829
DESCRIPTION:Coffee and Books to go\r\nBuchbasar\r\n \r\nPixi-Bücher Tau
 schbörse\r\nBring drei gelesene Pixi Bücher in gutem Zustand und\r\nta
 usche diese gegen drei neue Büchlein ein.\r\n \r\nEintritt frei!
 
LOCATION:Stadtbibliothek
SUMMARY:Tag der offenen Tür Stadtbibliothek
END:VEVENT
END:VCALENDAR
