BEGIN:VCALENDAR
VERSION:2.0
PRODID:-//Purkersdorf Online//NONSGML V1.0//DE
BEGIN:VEVENT
UID:13819@puon.at
DTSTAMP:20260422T090353
DTSTART:20190515T193000
DTEND:20190515T213000
LAST-MODIFIED:20190509T111032
DESCRIPTION:Was haben Sahara\, Namib-WÃ¼ste\, Atacama und Kalahari gemei
 nsam? Sie sind extreme Landschaften\, heiÃŸ\, trocken\, riesig. Und – He
 lmut Tschellnig hat sie alle durchlaufen. Jetzt stellt der Ultramarathon
 mann sein Buch dazu vor. Lebe deinen TRAUM heiÃŸt es\, und er erzÃ¤hlt d
 arin vom groÃŸen Abenteuer\, davon\, was es heiÃŸt\, gegen sich selbst a
 nzutreten\, an seine Grenzen zu gehen und darÃ¼ber hinaus.\r\nTschellnig
  erzÃ¤hlt mit packenden Worten und berauschenden Bildern von der SchÃ¶nh
 eit der WÃ¼ste\, dem unbeschreiblichem GlÃ¼ck\, das Ziel zu erreichen\, 
 der Kameradschaft\, die die LÃ¤ufer zusammenschweiÃŸt. Und vom Ankommen\
 , bei sich selbst. Denn eines ist klar: All die Strapazen nimmt nur eine
 r auf sich\, der genau weiÃŸ\, wo er hingehÃ¶rt. Der loslÃ¤uft\, wo ande
 re noch trÃ¤umen.\r\nEintritt frei! 
 
LOCATION:Bildungszentrum Purkersdorf
SUMMARY:Helmut Tschellnig: Lebe deinen TRAUM
END:VEVENT
END:VCALENDAR
