BEGIN:VCALENDAR
VERSION:2.0
PRODID:-//Purkersdorf Online//NONSGML V1.0//DE
BEGIN:VEVENT
UID:13847@puon.at
DTSTAMP:20260422T111421
DTSTART:20190526T080000
DTEND:20190526T160000
LAST-MODIFIED:20190513T202945
DESCRIPTION:Es ist nicht nur eine Klimawahl\, sondern auch eine Wahl fü
 r Demokratie\, Freiheit und Frieden. \r\n\r\nDarum brauchen wir bei dies
 er EU-Wahl am 26. Mai eure grüne Stimme!
 
LOCATION:Ihr Wahllokal
SUMMARY:Europawahl 2019
END:VEVENT
END:VCALENDAR
