BEGIN:VCALENDAR
VERSION:2.0
PRODID:-//Purkersdorf Online//NONSGML V1.0//DE
BEGIN:VEVENT
UID:14736@puon.at
DTSTAMP:20260422T041753
DTSTART;VALUE=DATE:20231205
DTEND;VALUE=DATE:20231206
LAST-MODIFIED:20221121T231914
LOCATION:Purkersdorf
SUMMARY:Altpapier
END:VEVENT
END:VCALENDAR
