BEGIN:VCALENDAR
VERSION:2.0
PRODID:-//Purkersdorf Online//NONSGML V1.0//DE
BEGIN:VEVENT
UID:14936@puon.at
DTSTAMP:20260424T105154
DTSTART:20231128T190000
DTEND:20231128T-2:0:0
LAST-MODIFIED:20230920T200907
DESCRIPTION:Öffentliche Sitzungen des Gemeinderats der Stadtgemeinde Pu
 rkersdorf
 
LOCATION:Stadtsaal Purkersdorf
SUMMARY:Gemeinderatssitzung
END:VEVENT
END:VCALENDAR
