BEGIN:VCALENDAR
VERSION:2.0
PRODID:-//Purkersdorf Online//NONSGML V1.0//DE
BEGIN:VEVENT
UID:14944@puon.at
DTSTAMP:20260422T115639
DTSTART:20231201T193000
DTEND:20231201T203000
LAST-MODIFIED:20231001T124128
DESCRIPTION:Foto: Werner Deimel\r\n\r\n\r\nSwing & Dance\r\n\r\nDie Big 
 Band ist die GroÃŸformation der Jazzmusik und fÃ¼r viele Jazzliebhaber d
 er beeindruckendste KlangkÃ¶rper dieser Musikrichtung. Das Vienna Jazz O
 rchestra wurde 2012 von Fritz Ozmec mit der Zielsetzung gegrÃ¼ndet\, Big
 Band-Musik auf hÃ¶chstem professionellem Niveau zu pflegen.\r\nEs ist ei
 n Projekt\, in dem Ã¶sterreichische Top-Musiker und auch junge Spitzenta
 lente mitwirken.\r\nDie Band hat StÃ¼cke aus den Bandbooks von Count Bas
 ie\, Duke Ellington\, Buddy Rich\, Thad Jones/Mel Lewis\, Bob Mintzer\, 
 Peter Herbholzheimer\, Maria Schneider u.a. im Repertoire.\r\nGespielt w
 ird in klassischer Besetzung: 4 Trompeten\, 4 Posaunen\, 5 Saxophone\, R
 hythmusgruppe.\r\n\r\nDer GrÃ¼nder des VJO\, Fritz Ozmec\, war langjÃ¤hr
 iges Mitglied der legendÃ¤ren ORF Big Band.\r\nEr spielte im Vienna Art 
 Orchestra und vielen anderen Formationen mit Ã¶sterreichischen Top-Musik
 ern\, wie z.B. Hans Koller\, Fritz Pauer\, Wolfgang Puschnig\, Harry Pep
 l\, Friedrich Gulda usw.\r\nEr begleitete zahlreiche internationale Jazz
 stars\, wie z.B. Art Farmer\, Stan Getz\, Jerry Mulligan\, Ray Brown\, D
 ave Liebmann\, Toots Thielemanns u.v.a.\r\nEr war der erste Jazzmusiker\
 , der an der UniversitÃ¤t fÃ¼r Musik und darstellende Kunst in Wien enga
 giert wurde und ist dort seit 1979 Professor fÃ¼r Schlagzeug und Percuss
 ion.\r\nCarole Alston:\r\nDie Tochter eines Baptistenpredigers kam frÃ¼h
  mit der Musik der afroamerikanischen Kirchen in BerÃ¼hrung und entwicke
 lte bald ihre Liebe zu Gospels\, Spirituals und Jubilees. WÃ¤hrend der H
 ighschoolzeit sang sie mit diversen Bands vor allem die Motownhits diese
 r Zeit\, widmete sich allerdings auch dem Sport und schaffte es im HÃ¼rd
 enlauf bis zur Staatsmeisterin von Maryland.\r\nSie studierte Schauspiel
 \, Tanz und Gesang an der Howard University College of Fine Arts und wur
 de unmittelbar nach ihrem Abschluss nach Europa engagiert.\r\nSie verkÃ¶
 rperte erfolgreich zahlreiche Hauptrollen in Musicals wie die Kate in Ki
 ss Me\, Kate\, die Maria Magdalena in Jesus Christ Superstar\, die Aldon
 za in Der Mann von La Mancha oder die Anita in der West Side Story. Dane
 ben arbeitete sie auch als Schauspielerin am Sprechtheater (u.a. an der 
 Seite von Karl SchÃ¶nbÃ¶ck oder Karin Dor) oder als SÃ¤ngerin bei TV-Sho
 ws (u.a. mit Jose Carreras).\r\nAls JazzsÃ¤ngerin trat sie unter anderem
  beim Salzburger Jazzherbst\, im Jazzland und Joe Zawinuls Birdland in W
 ien sowie zuletzt in Prag\, Paris\, Warschau\, Istanbul und im Goldenen 
 Saal des Wiener Musikvereins gemeinsam mit dem Wiener Singverein (unter 
 Johannes Prinz) auf. Dabei arbeitete sie mit Richard Ã–sterreicher und a
 nderen Top-Musikern der Ã¶sterr. Jazzszene zusammen.\r\n\r\nBesetzung:\r
 \nVocal: Carole Alston\r\nTrompeten: Manfred Holzhacker\, Josef Fuchsber
 ger\, Jan Kolaja\, Lukas Hartl\r\nPosaunen: Matyas Papp\, Jakob Mayr\, R
 udolf Josel\, Markus Eckl\r\nSaxophone: Gert Kolaja\, Stefan Ã–llerer\, 
 Erik Schuster\, Ray Aichinger\, Helmut Strobl\r\nKlavier: Gerald Schulle
 r\r\nBass: Christoph Petschina\r\nDrums: Fritz Ozmec\r\n\r\n(BesetzungsÃ
 ¤nderungen vorbehalten!) _______________________________________________
 ______________________________________________________\r\n\r\nEinlass: 1
 8:30 Uhr\r\nBeginn: 19:30 Uhr\r\n\r\nKarten:\r\n\r\nVVK oeticket: Karten
  online | Tel.: 0196096\r\nVVK EventJet: Karten online... demnÃ¤chst\r\n
 Karten Vorverkauf: € 25.-\r\nKarten Abendkassa: € 28.-\r\n\r\nErmÃ¤ÃŸigu
 ngen:\r\n\r\nSchÃ¼ler/Studenten/1424Jugend:karte NÃ– (Ausweis) Ticketpre
 is € 10.-\r\nÃ–1-Club: 10% ErmÃ¤ÃŸigung pro Ticket (Club-Ausweis)\r\nAK 
 NÃ–/Ã–GB: 20% ErmÃ¤ÃŸigung pro Ticket (AK-Servicekarte/Ã–GB-Mitgliedskar
 te)\r\n\r\n\r\nFreie Sitzplatzwahl!\r\nDas bedeutet\, dass Sie mit Ihrem
  Ticket entsprechend den Ã¶rtlichen Gegebenheiten Ihren Platz frei auswÃ
 ¤hlen kÃ¶nnen.\r\nEs kann sich dabei um SitzplÃ¤tze\, StehplÃ¤tze oder e
 ine Teilbestuhlung ohne Sitzplatzanspruch handeln.
 
LOCATION:Kulturverein "Die BÃ¼hne"
URL:https://www.die-buehne-purkersdorf.at/index.php?id=37
SUMMARY:VIENNA JAZZ ORCHESTRA & Carole Alston
END:VEVENT
END:VCALENDAR
