BEGIN:VCALENDAR
VERSION:2.0
PRODID:-//Purkersdorf Online//NONSGML V1.0//DE
BEGIN:VEVENT
UID:RFCALITEM8c666a7a-6874-1b1c-2afa-3666cf959eec20231202T140000Z
DTSTAMP:20260422T100214
DTSTART:20231202T150000
DTEND:20231202T170000
LAST-MODIFIED:00000000T000000
DESCRIPTION:Agathe lädt kleine und große Besucherinnen und Besucher ab d
 rei Jahren ein\, mit ihr in die Welt der Musik einzutauchen.Â Ihren Musi
 kkoffer hat sie bei ihren musikalischen Reisen immer mit dabei.<br>Jedes
  Mal sieht er anders aus und jedes Mal wundert sie sich\, was sich in ih
 rem Â­Koffer befindet.<br>Komm mit und steige ein in drei Abenteuer voll
 er Â­Musik!Idee\, Libretto\, Inszenierung\, Schauspiel und Â­künstlerisc
 he Leitung: Veronika MandlDas mutige Entchen:Es war einmal ein Entchen\,
  das lebte am Teich und war glücklich.<br>Eines Tages wurde es vom Teich
  verjagt - einfach so.<br>Wird sich das mutige Entchen dies gefallen las
 sen? Mit der Unterstützung des Publikums gelingt es ihm hoffentlich\, wi
 eder zu seinem Teich zurück zu kehren.Veronika Kinsky - Klavier\, Perkus
 sionVeronika Mandl - Idee\, Inszenierung\, Schauspiel und künstlerische 
 Leitung
 
LOCATION:BIZ Konzertsaal Purkersdorf, Schwarzhubergasse 5 3002 Purkersdorf
SUMMARY:Agathe's Musikkoffer
END:VEVENT
END:VCALENDAR
