BEGIN:VCALENDAR
VERSION:2.0
PRODID:-//Purkersdorf Online//NONSGML V1.0//DE
BEGIN:VEVENT
UID:15226@puon.at
DTSTAMP:20260424T123921
DTSTART:20241130T193000
DTEND:20241130T220000
LAST-MODIFIED:20240826T110308
DESCRIPTION:Foto: Â© Trondl\r\n\r\nGroÃŸe Meister sind nicht umzubringen
  – man lieÃŸ ihn bei Dancing Stars alle Knochen seines Leibes spÃ¼ren\, 
 verlieh ihm schon mal den Amadeus fÃ¼r sein Lebenswerk\, und dann suchte
  ihn noch eine lebensbedrohende Krankheit heim.\r\n\r\nNichts davon konn
 te ihm etwas anhaben\, jetzt ist er wieder da.\r\n\r\nEs ist wohl das Co
 meback des Jahres\, des Jahrzehnts – eine musikalische Wiederauferstehun
 g.\r\n\r\nEr zÃ¼ndet ein Feuerwerk der lustigsten Anekdoten aus einem pr
 allen Musikerleben mit Kollegen wie Konstantin Wecker\, EAV\, STS\, Wilf
 ried\, Falco uva\, sowie privaten Seifen- und Pferdeopern.\r\n\r\nDie Ho
 ppalas und Gags lassen jeden mit einem LÃ¤cheln heimgehen.\r\n\r\nDazwis
 chen spielt er mit seinem Gitarristen Jaxx Bahaudeen ein „best of“ mit d
 en musikalischen Meilensteinen wie „Fritze mit der Spritze“\, „Trag mein
 e Liebe wie einen Mantel“\, „Fandango“\, „Kokain“ und den Highlights aus
  dem vielgepriesenen letzten Album\; Songs ohne Ablaufdatum\, Worte\, di
 e bleiben\, wenn die Musik aufhÃ¶rt zu spielen.\r\n\r\nGÃ¤nse auf der Ha
 ut!\r\n\r\nJa\, es gibt ein Leben vor dem Tod\, und was fÃ¼r eines!\r\n\
 r\n(Pressetext)\r\n\r\nFreie Platzwahl! Das bedeutet\, dass Sie mit Ihre
 m Ticket entsprechend den Ã¶rtlichen Gegebenheiten Ihren Platz frei ausw
 Ã¤hlen kÃ¶nnen. Es kann sich dabei um SitzplÃ¤tze\, StehplÃ¤tze oder ein
 e Teilbestuhlung ohne Sitzplatzanspruch handeln.\r\n
 
LOCATION:Kulturverein "Die BÃ¼hne"
URL:https://www.die-buehne-purkersdorf.at/programm/
SUMMARY:Boris Bukowski - Bukowski privat
END:VEVENT
END:VCALENDAR
