BEGIN:VCALENDAR
VERSION:2.0
PRODID:-//Purkersdorf Online//NONSGML V1.0//DE
BEGIN:VEVENT
UID:15313@puon.at
DTSTAMP:20260422T113153
DTSTART;VALUE=DATE:20250227
DTEND;VALUE=DATE:20250228
LAST-MODIFIED:20241110T130622
LOCATION:Purkersdorf
SUMMARY:Restmüll 770-1100l
END:VEVENT
END:VCALENDAR
