BEGIN:VCALENDAR
VERSION:2.0
PRODID:-//Purkersdorf Online//NONSGML V1.0//DE
BEGIN:VEVENT
UID:15378@puon.at
DTSTAMP:20260424T161103
DTSTART;VALUE=DATE:20250221
DTEND;VALUE=DATE:20250222
LAST-MODIFIED:20250219T221930
DESCRIPTION:Foto: © zVg Wagner\r\n\r\nVeranstaltung ist leider ABGESAGT
 !\r\nBereits gekaufte Karten werden von oeticket rückerstattet!
 
LOCATION:Kulturverein "Die Bühne"
URL:https://www.die-buehne-purkersdorf.at/programm/
SUMMARY:Soundstairs - Konzert ABGESAGT!
END:VEVENT
END:VCALENDAR
