BEGIN:VCALENDAR
VERSION:2.0
PRODID:-//Purkersdorf Online//NONSGML V1.0//DE
BEGIN:VEVENT
UID:15385@puon.at
DTSTAMP:20260422T035613
DTSTART:20250303T193000
DTEND:20250303T203000
LAST-MODIFIED:20250113T142415
DESCRIPTION:Foto: Â©wecallitwild photography\r\n\r\nIm Rahmen von "come 
 on"\r\n\r\nMit seinem neu verÃ¶ffentlichten Soloalbum „Am Sand“ im GepÃ¤
 ck\, verspricht der Liedermacher Jan Rohrweg einen Abend voll starker\, 
 eindringlicher Texte und auÃŸergewÃ¶hnlicher Musik.\r\n\r\nEinen „mutige
 n\, mit Sprachbildern spielenden Troubadour“\, nennt ihn Radio Fm4.\r\n\
 r\n„Hut Ab!… Ein neuer Stern am Ã¶sterreichischen Folk-Singer/Songwriter
 -Schubertlied-Wienerlied-Himmel…“ schreibt das Musikmagazin The Gap. Der
  Falter titelt in der Headline zur Album Rezension gar: „Udo JÃ¼rgens si
 ngt Schubert.“\r\n\r\nDoch Jan Rohrweg ist mehr als die Summe von Assozi
 ationen seiner HÃ¶rer*innen\, die von Konstantin Wecker\, Reinhard Mey u
 nd Max Raabe Ã¼ber Garish und Max Prosa bis zu Tocotronic\, Jacques Brel
  oder Franz Schubert reichen.\r\n\r\nDer junge Vater hat seinen unverken
 nbaren Stil gefunden und singt Ã¼ber die Freuden des Ãœberlebens der let
 zten Nacht\, fordert die MÃ¤nnerwelt dazu auf\, sich doch weniger zu gen
 ieren und aus stereotypen Verhaltensweisen auszubrechen. Lorbeeren kÃ¶nn
 en auch verspeisend statt am Kopf zur Schau getragen genossen werden\, M
 ilch schmeckt auch im Rotweinglas.\r\n\r\nIn seinen lyrischen deutschspr
 achigen Chansons mit Klavier- oder Guitarlele-Begleitung prÃ¤sentiert er
  seinen ganz persÃ¶nlichen teils kritischen\, teils humorvollen aber ste
 ts versÃ¶hnlichen und hoffnungsvollen Blick auf die groÃŸen und kleinen 
 Fragen des Lebens\, des Mensch-Seins schlechthin.\r\n\r\nBesetzung:\r\n\
 r\nJan Rohrweg – Gesang\, Klavier\, Guitarlele\, Gitarre\r\n\r\n(Presset
 ext)\r\n\r\nFreie Platzwahl!\r\nDas bedeutet\, dass Sie mit Ihrem Ticket
  entsprechend den Ã¶rtlichen Gegebenheiten Ihren Platz frei auswÃ¤hlen k
 Ã¶nnen. Es kann sich dabei um SitzplÃ¤tze\, StehplÃ¤tze oder eine Teilbe
 stuhlung ohne Sitzplatzanspruch handeln.
 
LOCATION:Kulturverein "Die BÃ¼hne"
URL:https://www.die-buehne-purkersdorf.at/programm/
SUMMARY:Blue Monday – Jan Rohrweg
END:VEVENT
END:VCALENDAR
