BEGIN:VCALENDAR
VERSION:2.0
PRODID:-//Purkersdorf Online//NONSGML V1.0//DE
BEGIN:VEVENT
UID:RFCALITEM11e01067-e250-af06-7174-fa7434861db520250222T140000Z
DTSTAMP:20260424T142414
DTSTART:20250222T150000
DTEND:20250222T154500
LAST-MODIFIED:20250222T150000
DESCRIPTION:Fanny und ihr Bruder Felix spielen Klavier und komponieren.<
 br>Beide wollen hoch hinaus und ihr Leben der Musik widmen.<br>Doch Fann
 y darf diesen Beruf nicht ergreifen â€¦Über das Hinterfragen von Normen 
 und den Mut\, Grenzen zu überwinden.Daniela Fheodoroff - KlavierVeronika
  Mandl - Idee\, Inszenierung\, Schauspiel und künstlerische LeitungJutta
  Vranovsky - Ausstattung
 
LOCATION:BIZ Konzertsaal Purkersdorf, Schwarzhubergasse 5 3002 Purkersdorf
SUMMARY:Agathes Musikkoffer: Hoch hinaus!
END:VEVENT
END:VCALENDAR
