BEGIN:VCALENDAR
VERSION:2.0
PRODID:-//Purkersdorf Online//NONSGML V1.0//DE
BEGIN:VEVENT
UID:RFCALITEMb52b4cc7-a1fc-ae9b-1f84-364e577f2ca520250225T170000Z
DTSTAMP:20260422T144547
DTSTART:20250225T180000
DTEND:20250225T195900
LAST-MODIFIED:20250225T180000
DESCRIPTION:Konzert der Teilnehmer:innen
 
LOCATION:Konzertsaal BIZ Purkersdorf Schwarzhubergasse 5 3002 Purkersdorf
SUMMARY:PRIMA LA MUSICA
END:VEVENT
END:VCALENDAR
